BEGIN:VCALENDAR
VERSION:2.0
PRODID:-//Doppelpunkt//Events//DE
CALSCALE:GREGORIAN
METHOD:PUBLISH
BEGIN:VEVENT
UID:event-3367@www.doppelpunkt.de
DTSTAMP:20260425T122819
DTSTART:20251219T200000
DTEND:20251219T200000
SUMMARY:Urban Priol: "Tilt! Jahresrückblick"
LOCATION:Posthalle\, Bahnhofsplatz 2\, 97070 Würzburg
STATUS:CONFIRMED
END:VEVENT
END:VCALENDAR