BEGIN:VCALENDAR
VERSION:2.0
PRODID:-//Doppelpunkt//Events//DE
CALSCALE:GREGORIAN
METHOD:PUBLISH
BEGIN:VEVENT
UID:event-3365@www.doppelpunkt.de
DTSTAMP:20260421T113714
DTSTART:20251213T140000
DTEND:20251213T140000
SUMMARY:"Bleiweiße Weihnacht" mit Live-Musik und Geschichten auf dem Ruth-Schloss-Platz
LOCATION:Kunst- u. Kurhaus Katana\, Wilhelm-Spaeth-Str. 18\, 90461 Nürnberg
STATUS:CONFIRMED
END:VEVENT
END:VCALENDAR