BEGIN:VCALENDAR
VERSION:2.0
PRODID:-//Doppelpunkt//Events//DE
CALSCALE:GREGORIAN
METHOD:PUBLISH
BEGIN:VEVENT
UID:event-3363@www.doppelpunkt.de
DTSTAMP:20260425T135520
DTSTART:20260111T140000
DTEND:20260111T140000
SUMMARY:"Viva - Feuerwerk der Turnkunst"\, Turn-Show
LOCATION:Brose Arena\, Forchheimer Str. 15\, 96050 Bamberg
STATUS:CONFIRMED
END:VEVENT
END:VCALENDAR