BEGIN:VCALENDAR
VERSION:2.0
PRODID:-//Doppelpunkt//Events//DE
CALSCALE:GREGORIAN
METHOD:PUBLISH
BEGIN:VEVENT
UID:event-3362@www.doppelpunkt.de
DTSTAMP:20260425T142020
DTSTART:20260131T200000
DTEND:20260131T200000
SUMMARY:Autorinnenlesung mit Andrea Sawatzki: "Biarritz"
LOCATION:Meistersingerhalle\, Münchener Str. 21\, 90478 Nürnberg
STATUS:CONFIRMED
END:VEVENT
END:VCALENDAR