BEGIN:VCALENDAR
VERSION:2.0
PRODID:-//Doppelpunkt//Events//DE
CALSCALE:GREGORIAN
METHOD:PUBLISH
BEGIN:VEVENT
UID:event-3361@www.doppelpunkt.de
DTSTAMP:20260425T140326
DTSTART:20260122T210000
DTEND:20260122T210000
SUMMARY:Wednesday 7 (Rock-Cover)
LOCATION:Brown Sugar\, Königstorgraben 3\, 90402 Nürnberg
STATUS:CONFIRMED
END:VEVENT
END:VCALENDAR