BEGIN:VCALENDAR
VERSION:2.0
PRODID:-//Doppelpunkt//Events//DE
CALSCALE:GREGORIAN
METHOD:PUBLISH
BEGIN:VEVENT
UID:event-3360@www.doppelpunkt.de
DTSTAMP:20260421T111732
DTSTART:20251205T190000
DTEND:20251205T190000
SUMMARY:Vortrag mit Klima-Journalistin Louisa Schneider: "Grad Jetzt - Gegen die Angst - Eine Weltreise zu den 5 Kipppunkten des Weltklimas und was Erlangen damit zu tun hat"
DESCRIPTION:Eintritt frei
LOCATION:Redoutensaal Erlangen\, Theaterplatz 1\, 91054 Erlangen
STATUS:CONFIRMED
END:VEVENT
END:VCALENDAR