BEGIN:VCALENDAR
VERSION:2.0
PRODID:-//Doppelpunkt//Events//DE
CALSCALE:GREGORIAN
METHOD:PUBLISH
BEGIN:VEVENT
UID:event-3359@www.doppelpunkt.de
DTSTAMP:20260421T111647
DTSTART:20251204T190000
DTEND:20251204T190000
SUMMARY:Ensemble ReBelcanto (Gospel/Folk/Musical/Evergreens)
DESCRIPTION:Tickets in der Buchhandlung Lilliput Altdorf
LOCATION:Goldener Anker\,  Altdorf
STATUS:CONFIRMED
END:VEVENT
END:VCALENDAR