BEGIN:VCALENDAR
VERSION:2.0
PRODID:-//Doppelpunkt//Events//DE
CALSCALE:GREGORIAN
METHOD:PUBLISH
BEGIN:VEVENT
UID:event-3347@www.doppelpunkt.de
DTSTAMP:20260421T105732
DTSTART:20251206T193000
DTEND:20251206T193000
SUMMARY:Beat Box Party
LOCATION:Weißes Ross\, Hauptstr. 25\, 91586 Immeldorf
STATUS:CONFIRMED
END:VEVENT
END:VCALENDAR