BEGIN:VCALENDAR
VERSION:2.0
PRODID:-//Doppelpunkt//Events//DE
CALSCALE:GREGORIAN
METHOD:PUBLISH
BEGIN:VEVENT
UID:event-3344@www.doppelpunkt.de
DTSTAMP:20260421T064743
DTSTART:20260107T200000
DTEND:20260107T200000
SUMMARY:Martha Argerich & Dario Ntaca (Klavier): Werke von Debussy u. Rachmaninow
LOCATION:Meistersingerhalle\, Münchener Str. 21\, 90478 Nürnberg
STATUS:CONFIRMED
END:VEVENT
END:VCALENDAR