BEGIN:VCALENDAR
VERSION:2.0
PRODID:-//Doppelpunkt//Events//DE
CALSCALE:GREGORIAN
METHOD:PUBLISH
BEGIN:VEVENT
UID:event-3343@www.doppelpunkt.de
DTSTAMP:20260423T145727
DTSTART:20251221T190000
DTEND:20251221T190000
SUMMARY:Sarah Willis & The Sarahbanda\, Special Guest: Carlos Calunga: "A Cuban Christmas"\, Werke von Warrell\, Pierpont\, Bach u.a.
LOCATION:Meistersingerhalle\, Münchener Str. 21\, 90478 Nürnberg
STATUS:CONFIRMED
END:VEVENT
END:VCALENDAR