BEGIN:VCALENDAR
VERSION:2.0
PRODID:-//Doppelpunkt//Events//DE
CALSCALE:GREGORIAN
METHOD:PUBLISH
BEGIN:VEVENT
UID:event-3341@www.doppelpunkt.de
DTSTAMP:20260421T105520
DTSTART:20251203T200000
DTEND:20251203T200000
SUMMARY:Schorle (Postpunk)
LOCATION:Kunst- u. Kurhaus Katana\, Wilhelm-Spaeth-Str. 18\, 90461 Nürnberg
STATUS:CONFIRMED
END:VEVENT
END:VCALENDAR