BEGIN:VCALENDAR
VERSION:2.0
PRODID:-//Doppelpunkt//Events//DE
CALSCALE:GREGORIAN
METHOD:PUBLISH
BEGIN:VEVENT
UID:event-3340@www.doppelpunkt.de
DTSTAMP:20260421T111646
DTSTART:20251204T190000
DTEND:20251204T190000
SUMMARY:Tacaeddish (Tango/Klezmer/Celtic)
LOCATION:Blackbox\, Schnieglinger Str. 166\, 90425 Nürnberg
STATUS:CONFIRMED
END:VEVENT
END:VCALENDAR