BEGIN:VCALENDAR
VERSION:2.0
PRODID:-//Doppelpunkt//Events//DE
CALSCALE:GREGORIAN
METHOD:PUBLISH
BEGIN:VEVENT
UID:event-3339@www.doppelpunkt.de
DTSTAMP:20260421T111547
DTSTART:20251206T180000
DTEND:20251221T235900
SUMMARY:"X-Mas in der MAXIKunst II"\, Verkaufsausstellung der Künstlergruppe "Der Kreis"
LOCATION:Ausstellungsraum maxi.kunst\, Maximilianstr. 41\, 90429 Nürnberg
STATUS:CONFIRMED
END:VEVENT
END:VCALENDAR