BEGIN:VCALENDAR
VERSION:2.0
PRODID:-//Doppelpunkt//Events//DE
CALSCALE:GREGORIAN
METHOD:PUBLISH
BEGIN:VEVENT
UID:event-3337@www.doppelpunkt.de
DTSTAMP:20260421T104059
DTSTART:20260109T180000
DTEND:20260221T235900
SUMMARY:Freiland-Theater: "Wetterleuchten"\, Winterwandeltheater (Start alle 15 Min.)
LOCATION:Fränkisches Freilandmuseum\, Eisweiherweg 1\, 91438 Bad Windsheim
STATUS:CONFIRMED
END:VEVENT
END:VCALENDAR