BEGIN:VCALENDAR
VERSION:2.0
PRODID:-//Doppelpunkt//Events//DE
CALSCALE:GREGORIAN
METHOD:PUBLISH
BEGIN:VEVENT
UID:event-3335@www.doppelpunkt.de
DTSTAMP:20260421T140019
DTSTART:20260110T193000
DTEND:20260110T193000
SUMMARY:The Mergers (Psycedelic beat / Garage) + The Royal Flares (60s Garage Punk)
DESCRIPTION:THE MERGERS kommen mit ihrem aktuellen Album &bdquo\;Three Apples in the Orange Grove&ldquo\; im Gep&auml\;ck (&bdquo\;Beatleske Gl&uuml\;cksmomente treffen auch auf dem dritten Album auf The Byrds-Gitarrenperlen&ldquo\;). S&auml\;nger und Gitarrist Jerry Coma zeigt mit seiner Band &ndash\; Jay Le Saux (git\, voc)\, Herny Florence Jr. (bass\, voc) und Winston McLoud (drums) &ndash\; vor allem live eindrucksvoll\, wo der 60s-Hammer h&auml\;ngt! Auf &bdquo\;Three Apples&hellip\;.&ldquo\; haben THE MERGERS ihr musi...
LOCATION:Weißes Ross\, Hauptstr. 25\, 91586 Immeldorf
STATUS:CONFIRMED
END:VEVENT
END:VCALENDAR