BEGIN:VCALENDAR
VERSION:2.0
PRODID:-//Doppelpunkt//Events//DE
CALSCALE:GREGORIAN
METHOD:PUBLISH
BEGIN:VEVENT
UID:event-3330@www.doppelpunkt.de
DTSTAMP:20260425T141745
DTSTART:20260115T200000
DTEND:20260115T200000
SUMMARY:Marco Spreider & Lea Hieronymus „90 Jahre Elvis - Happy Birthday!“\, Hommage-Show
LOCATION:Redoutensaal Erlangen\, Theaterplatz 1\, 91054 Erlangen
STATUS:CONFIRMED
END:VEVENT
END:VCALENDAR