BEGIN:VCALENDAR
VERSION:2.0
PRODID:-//Doppelpunkt//Events//DE
CALSCALE:GREGORIAN
METHOD:PUBLISH
BEGIN:VEVENT
UID:event-3329@www.doppelpunkt.de
DTSTAMP:20260425T141545
DTSTART:20260113T140000
DTEND:20260113T140000
SUMMARY:Literatur-Gespräch mit Eva Homrighausen  u. Jean Francois Drozak
LOCATION:Café Marie 15\, Marienstr. 15\, 90402 Nürnberg
STATUS:CONFIRMED
END:VEVENT
END:VCALENDAR