BEGIN:VCALENDAR
VERSION:2.0
PRODID:-//Doppelpunkt//Events//DE
CALSCALE:GREGORIAN
METHOD:PUBLISH
BEGIN:VEVENT
UID:event-3325@www.doppelpunkt.de
DTSTAMP:20260425T121948
DTSTART:20260217T140000
DTEND:20260217T140000
SUMMARY:Kinderfasching im ganzen Haus
LOCATION:E-Werk\, Fuchsenwiese 1\, 91054 Erlangen
STATUS:CONFIRMED
END:VEVENT
END:VCALENDAR