BEGIN:VCALENDAR
VERSION:2.0
PRODID:-//Doppelpunkt//Events//DE
CALSCALE:GREGORIAN
METHOD:PUBLISH
BEGIN:VEVENT
UID:event-3317@www.doppelpunkt.de
DTSTAMP:20260421T050738
DTSTART:20260106T110000
DTEND:20260106T110000
SUMMARY:Flic Flac: "X-Mas Show"\, Artistik-Show (auch um 15 Uhr)
LOCATION:Volksfestplatz\, Bayernstr. 100\, 90478 Nürnberg
STATUS:CONFIRMED
END:VEVENT
END:VCALENDAR