BEGIN:VCALENDAR
VERSION:2.0
PRODID:-//Doppelpunkt//Events//DE
CALSCALE:GREGORIAN
METHOD:PUBLISH
BEGIN:VEVENT
UID:event-3316@www.doppelpunkt.de
DTSTAMP:20260421T032107
DTSTART:20260105T150000
DTEND:20260105T150000
SUMMARY:Flic Flac: "X-Mas Show"\, Artistik-Show (auch um 19.30)
LOCATION:Volksfestplatz\, Bayernstr. 100\, 90478 Nürnberg
STATUS:CONFIRMED
END:VEVENT
END:VCALENDAR