BEGIN:VCALENDAR
VERSION:2.0
PRODID:-//Doppelpunkt//Events//DE
CALSCALE:GREGORIAN
METHOD:PUBLISH
BEGIN:VEVENT
UID:event-3315@www.doppelpunkt.de
DTSTAMP:20260420T234903
DTSTART:20260103T110000
DTEND:20260104T235900
SUMMARY:Flic Flac: "X-Mas Show"\, Artistik-Show (auch um 15.00 u. 19.30)
LOCATION:Volksfestplatz\, Bayernstr. 100\, 90478 Nürnberg
STATUS:CONFIRMED
END:VEVENT
END:VCALENDAR