BEGIN:VCALENDAR
VERSION:2.0
PRODID:-//Doppelpunkt//Events//DE
CALSCALE:GREGORIAN
METHOD:PUBLISH
BEGIN:VEVENT
UID:event-3308@www.doppelpunkt.de
DTSTAMP:20260425T141646
DTSTART:20260131T200000
DTEND:20260131T200000
SUMMARY:"Vibraphonissimo": Radek Szarek & Werner Treiber Duo (Jazz)
LOCATION:KOHO\, Kiliansgasse 3\, 90518 Altdorf
STATUS:CONFIRMED
END:VEVENT
END:VCALENDAR