BEGIN:VCALENDAR
VERSION:2.0
PRODID:-//Doppelpunkt//Events//DE
CALSCALE:GREGORIAN
METHOD:PUBLISH
BEGIN:VEVENT
UID:event-3307@www.doppelpunkt.de
DTSTAMP:20260425T141646
DTSTART:20260130T190000
DTEND:20260130T190000
SUMMARY:"Vibraphonissimo": Lorenzo De Finti Quartet feat. Izabella Effenberg und Radek Szarek
LOCATION:Klangraum/Festsäle der Residenz\, Residenzplatz 7\, 92318 Neumarkt
STATUS:CONFIRMED
END:VEVENT
END:VCALENDAR