BEGIN:VCALENDAR
VERSION:2.0
PRODID:-//Doppelpunkt//Events//DE
CALSCALE:GREGORIAN
METHOD:PUBLISH
BEGIN:VEVENT
UID:event-3306@www.doppelpunkt.de
DTSTAMP:20260425T141849
DTSTART:20260125T110000
DTEND:20260125T110000
SUMMARY:"Vibraphonissimo": Konzert zum Workshop mit Raszard Bazarnkik
LOCATION:Neues Museum\, Klarissenplatz\, 90402 Nürnberg
STATUS:CONFIRMED
END:VEVENT
END:VCALENDAR