BEGIN:VCALENDAR
VERSION:2.0
PRODID:-//Doppelpunkt//Events//DE
CALSCALE:GREGORIAN
METHOD:PUBLISH
BEGIN:VEVENT
UID:event-3305@www.doppelpunkt.de
DTSTAMP:20260425T160750
DTSTART:20260123T190000
DTEND:20260123T190000
SUMMARY:"Vibraphonissimo": Percussion plus X (zeitgen. Musik)
LOCATION:Neues Museum\, Klarissenplatz\, 90402 Nürnberg
STATUS:CONFIRMED
END:VEVENT
END:VCALENDAR