BEGIN:VCALENDAR
VERSION:2.0
PRODID:-//Doppelpunkt//Events//DE
CALSCALE:GREGORIAN
METHOD:PUBLISH
BEGIN:VEVENT
UID:event-3304@www.doppelpunkt.de
DTSTAMP:20260425T141729
DTSTART:20260122T200000
DTEND:20260122T200000
SUMMARY:"Vibraphonissimo": KOKO Trio (Jazz/Sphärische Klangwelten)
LOCATION:Stadtmuseum\, Museumsstraße 1\, Besuchereingang Dr.-Haas-Str.\, 91126 Schwabach
STATUS:CONFIRMED
END:VEVENT
END:VCALENDAR