BEGIN:VCALENDAR
VERSION:2.0
PRODID:-//Doppelpunkt//Events//DE
CALSCALE:GREGORIAN
METHOD:PUBLISH
BEGIN:VEVENT
UID:event-3300@www.doppelpunkt.de
DTSTAMP:20260421T105626
DTSTART:20260207T193000
DTEND:20260207T193000
SUMMARY:Night of the Profs
LOCATION:Hochschule für Musik\, Veilhofstr. 34-40\, 90489 Nürnberg
STATUS:CONFIRMED
END:VEVENT
END:VCALENDAR