BEGIN:VCALENDAR
VERSION:2.0
PRODID:-//Doppelpunkt//Events//DE
CALSCALE:GREGORIAN
METHOD:PUBLISH
BEGIN:VEVENT
UID:event-3299@www.doppelpunkt.de
DTSTAMP:20260425T123001
DTSTART:20260201T193000
DTEND:20260201T193000
SUMMARY:"Projekt Beethoven"\, 32 Klaviersonaten\, anlässlich des Beethoven-Jubiläumsjahres 2027
LOCATION:Hochschule für Musik\, Veilhofstr. 34-40\, 90489 Nürnberg
STATUS:CONFIRMED
END:VEVENT
END:VCALENDAR