BEGIN:VCALENDAR
VERSION:2.0
PRODID:-//Doppelpunkt//Events//DE
CALSCALE:GREGORIAN
METHOD:PUBLISH
BEGIN:VEVENT
UID:event-3298@www.doppelpunkt.de
DTSTAMP:20260425T141830
DTSTART:20260130T183000
DTEND:20260130T183000
SUMMARY:Aufseßsaal: HfM Nürnberg/The Lute Connection: "Tage alter Musik"\, Lauten- u. Kammermusik
LOCATION:Germanisches Nationalmuseum\, Kartäusergasse 1\, 90402 Nürnberg
STATUS:CONFIRMED
END:VEVENT
END:VCALENDAR