BEGIN:VCALENDAR
VERSION:2.0
PRODID:-//Doppelpunkt//Events//DE
CALSCALE:GREGORIAN
METHOD:PUBLISH
BEGIN:VEVENT
UID:event-3297@www.doppelpunkt.de
DTSTAMP:20260425T135446
DTSTART:20260128T193000
DTEND:20260131T235900
SUMMARY:"(Good) Night Songs"\, Musiktheater-Inszenierung
LOCATION:Hochschule für Musik\, Veilhofstr. 34-40\, 90489 Nürnberg
STATUS:CONFIRMED
END:VEVENT
END:VCALENDAR