BEGIN:VCALENDAR
VERSION:2.0
PRODID:-//Doppelpunkt//Events//DE
CALSCALE:GREGORIAN
METHOD:PUBLISH
BEGIN:VEVENT
UID:event-3295@www.doppelpunkt.de
DTSTAMP:20260425T141359
DTSTART:20260115T193000
DTEND:20260115T193000
SUMMARY:Sinfonieorchester der Hochschule für Musik Nürnberg: Werke von Kodály u. Dvořák
LOCATION:Markgrafensaal Schwabach\, Ludwigstraße 16\, 91126 Schwabach
STATUS:CONFIRMED
END:VEVENT
END:VCALENDAR