BEGIN:VCALENDAR
VERSION:2.0
PRODID:-//Doppelpunkt//Events//DE
CALSCALE:GREGORIAN
METHOD:PUBLISH
BEGIN:VEVENT
UID:event-3294@www.doppelpunkt.de
DTSTAMP:20260425T141451
DTSTART:20260113T193000
DTEND:20260113T193000
SUMMARY:"Tage Alter Musik"\, Cembalo-Konzert
LOCATION:Hochschule für Musik\, Veilhofstr. 34-40\, 90489 Nürnberg
STATUS:CONFIRMED
END:VEVENT
END:VCALENDAR