BEGIN:VCALENDAR
VERSION:2.0
PRODID:-//Doppelpunkt//Events//DE
CALSCALE:GREGORIAN
METHOD:PUBLISH
BEGIN:VEVENT
UID:event-3292@www.doppelpunkt.de
DTSTAMP:20260421T120716
DTSTART:20260110T193000
DTEND:20260110T193000
SUMMARY:Konzert im Rahmen des Forums Blockflöte
LOCATION:Hochschule für Musik\, Veilhofstr. 34-40\, 90489 Nürnberg
STATUS:CONFIRMED
END:VEVENT
END:VCALENDAR