BEGIN:VCALENDAR
VERSION:2.0
PRODID:-//Doppelpunkt//Events//DE
CALSCALE:GREGORIAN
METHOD:PUBLISH
BEGIN:VEVENT
UID:event-3291@www.doppelpunkt.de
DTSTAMP:20260425T142019
DTSTART:20260121T193000
DTEND:20260121T193000
SUMMARY:Aufseßsaal: Forum historische Musikinstrumente/Musica Antiqua: "Die Vogelhochzeit"
LOCATION:Germanisches Nationalmuseum\, Kartäusergasse 1\, 90402 Nürnberg
STATUS:CONFIRMED
END:VEVENT
END:VCALENDAR