BEGIN:VCALENDAR
VERSION:2.0
PRODID:-//Doppelpunkt//Events//DE
CALSCALE:GREGORIAN
METHOD:PUBLISH
BEGIN:VEVENT
UID:event-3289@www.doppelpunkt.de
DTSTAMP:20260425T142334
DTSTART:20260114T180000
DTEND:20260114T180000
SUMMARY:Café Arte: Elfadila (Hardbop/Modern Jazz)
LOCATION:Germanisches Nationalmuseum\, Kartäusergasse 1\, 90402 Nürnberg
STATUS:CONFIRMED
END:VEVENT
END:VCALENDAR