BEGIN:VCALENDAR
VERSION:2.0
PRODID:-//Doppelpunkt//Events//DE
CALSCALE:GREGORIAN
METHOD:PUBLISH
BEGIN:VEVENT
UID:event-3280@www.doppelpunkt.de
DTSTAMP:20260419T150149
DTSTART:20251212T201500
DTEND:20251212T201500
SUMMARY:"Sternstunden-Gala": Benefizaktion des BR mit Vanessa Mai\, Iggi Kelly\, Klaus Florian Vogt uvm.\, Moderation Sandra Rieß u. Volker Heißmann
LOCATION:Frankenhalle\, im Messezentrum\, 90471 Nürnberg
STATUS:CONFIRMED
END:VEVENT
END:VCALENDAR