BEGIN:VCALENDAR
VERSION:2.0
PRODID:-//Doppelpunkt//Events//DE
CALSCALE:GREGORIAN
METHOD:PUBLISH
BEGIN:VEVENT
UID:event-3279@www.doppelpunkt.de
DTSTAMP:20260425T135837
DTSTART:20260129T190000
DTEND:20260129T190000
SUMMARY:Willy Dentler & The New Experience (Hippie-Grunge)
LOCATION:Café Express\, Bulmannstr. 4\, 90459 Nürnberg
STATUS:CONFIRMED
END:VEVENT
END:VCALENDAR