BEGIN:VCALENDAR
VERSION:2.0
PRODID:-//Doppelpunkt//Events//DE
CALSCALE:GREGORIAN
METHOD:PUBLISH
BEGIN:VEVENT
UID:event-3277@www.doppelpunkt.de
DTSTAMP:20260425T122825
DTSTART:20260129T160000
DTEND:20260129T160000
SUMMARY:Märchen zur Vesperkirche
LOCATION:Gustav-Adolf-Gedächtniskirche\, Allersberger Str. 114\, 90461 Nürnberg
STATUS:CONFIRMED
END:VEVENT
END:VCALENDAR