BEGIN:VCALENDAR
VERSION:2.0
PRODID:-//Doppelpunkt//Events//DE
CALSCALE:GREGORIAN
METHOD:PUBLISH
BEGIN:VEVENT
UID:event-3274@www.doppelpunkt.de
DTSTAMP:20260425T124510
DTSTART:20260214T190000
DTEND:20260214T190000
SUMMARY:Faschingsparty (50s-90s)
LOCATION:Orpheum\, Johannisstr. 32 a\, 90419 Nürnberg
STATUS:CONFIRMED
END:VEVENT
END:VCALENDAR