BEGIN:VCALENDAR
VERSION:2.0
PRODID:-//Doppelpunkt//Events//DE
CALSCALE:GREGORIAN
METHOD:PUBLISH
BEGIN:VEVENT
UID:event-3273@www.doppelpunkt.de
DTSTAMP:20260425T135820
DTSTART:20260111T120000
DTEND:20260111T120000
SUMMARY:"Glasgow Weekend": Schottischer Brunch mit Livemusik mit der Caulbums Ceilidh Band
LOCATION:Le Méridien Grand Hotel\, Bahnhofstr. 1-3\, 90402 Nürnberg
STATUS:CONFIRMED
END:VEVENT
END:VCALENDAR