BEGIN:VCALENDAR
VERSION:2.0
PRODID:-//Doppelpunkt//Events//DE
CALSCALE:GREGORIAN
METHOD:PUBLISH
BEGIN:VEVENT
UID:event-3272@www.doppelpunkt.de
DTSTAMP:20260425T122821
DTSTART:20260110T183000
DTEND:20260110T183000
SUMMARY:"Glasgow Weekend": Menü mit Livemusik mit der Caulbums Ceilidh Band
LOCATION:Le Méridien Grand Hotel\, Bahnhofstr. 1-3\, 90402 Nürnberg
STATUS:CONFIRMED
END:VEVENT
END:VCALENDAR