BEGIN:VCALENDAR
VERSION:2.0
PRODID:-//Doppelpunkt//Events//DE
CALSCALE:GREGORIAN
METHOD:PUBLISH
BEGIN:VEVENT
UID:event-3266@www.doppelpunkt.de
DTSTAMP:20260421T105720
DTSTART:20260131T150000
DTEND:20260201T235900
SUMMARY:Theater Lanzelot: "Der kleine Rabe Socke"\, ab 3 J.
LOCATION:Theater Rootslöffel\, Troststr. 6\, 90429 Nürnberg
STATUS:CONFIRMED
END:VEVENT
END:VCALENDAR