BEGIN:VCALENDAR
VERSION:2.0
PRODID:-//Doppelpunkt//Events//DE
CALSCALE:GREGORIAN
METHOD:PUBLISH
BEGIN:VEVENT
UID:event-3265@www.doppelpunkt.de
DTSTAMP:20260425T135306
DTSTART:20260111T150000
DTEND:20260111T150000
SUMMARY:"Kasper und der Räuberkönig"\, ab 5 J.
LOCATION:Theater Rootslöffel\, Troststr. 6\, 90429 Nürnberg
STATUS:CONFIRMED
END:VEVENT
END:VCALENDAR