BEGIN:VCALENDAR
VERSION:2.0
PRODID:-//Doppelpunkt//Events//DE
CALSCALE:GREGORIAN
METHOD:PUBLISH
BEGIN:VEVENT
UID:event-3264@www.doppelpunkt.de
DTSTAMP:20260420T234703
DTSTART:20260103T150000
DTEND:20260104T235900
SUMMARY:Theater Lanzelot: "Der Grüffelokind"\, ab 3 J.
LOCATION:Theater Rootslöffel\, Troststr. 6\, 90429 Nürnberg
STATUS:CONFIRMED
END:VEVENT
END:VCALENDAR