BEGIN:VCALENDAR
VERSION:2.0
PRODID:-//Doppelpunkt//Events//DE
CALSCALE:GREGORIAN
METHOD:PUBLISH
BEGIN:VEVENT
UID:event-3263@www.doppelpunkt.de
DTSTAMP:20260425T141400
DTSTART:20260115T170000
DTEND:20260115T170000
SUMMARY:Vernissage: "60 Jahre Stamm Asgard" (bis 10.3.)
LOCATION:Stadtbibliothek Erlangen\, Marktplatz 1\, 91054 Erlangen
STATUS:CONFIRMED
END:VEVENT
END:VCALENDAR