BEGIN:VCALENDAR
VERSION:2.0
PRODID:-//Doppelpunkt//Events//DE
CALSCALE:GREGORIAN
METHOD:PUBLISH
BEGIN:VEVENT
UID:event-3262@www.doppelpunkt.de
DTSTAMP:20260419T164842
DTSTART:20251210T181500
DTEND:20251210T181500
SUMMARY:Autorenlesung mit Volker Weiß: "Das Deutsche Demokratische Reich. Wie die extreme Rechte Geschichte und Demokratie zerstört"
LOCATION:Stadtbibliothek Erlangen\, Marktplatz 1\, 91054 Erlangen
STATUS:CONFIRMED
END:VEVENT
END:VCALENDAR