BEGIN:VCALENDAR
VERSION:2.0
PRODID:-//Doppelpunkt//Events//DE
CALSCALE:GREGORIAN
METHOD:PUBLISH
BEGIN:VEVENT
UID:event-3261@www.doppelpunkt.de
DTSTAMP:20260421T111733
DTSTART:20251209T181500
DTEND:20251209T181500
SUMMARY:Podiumsdiskussion: "Ohnmacht des Völkerrechts. Die Rückkehr des Krieges und der Menschheitsverbrechen"
LOCATION:Stadtbibliothek Erlangen\, Marktplatz 1\, 91054 Erlangen
STATUS:CONFIRMED
END:VEVENT
END:VCALENDAR