BEGIN:VCALENDAR
VERSION:2.0
PRODID:-//Doppelpunkt//Events//DE
CALSCALE:GREGORIAN
METHOD:PUBLISH
BEGIN:VEVENT
UID:event-3258@www.doppelpunkt.de
DTSTAMP:20260421T152214
DTSTART:20260227T193000
DTEND:20260227T193000
SUMMARY:Filmfestival Türkei-Deutschland im Filmhaus\, Kommkino\, Tafelhalle u. CineCittà
LOCATION:Filmhaus Nürnberg\, Königstr. 93\, 90403 Nürnberg
STATUS:CONFIRMED
END:VEVENT
END:VCALENDAR