BEGIN:VCALENDAR
VERSION:2.0
PRODID:-//Doppelpunkt//Events//DE
CALSCALE:GREGORIAN
METHOD:PUBLISH
BEGIN:VEVENT
UID:event-3256@www.doppelpunkt.de
DTSTAMP:20260421T111539
DTSTART:20251206T193000
DTEND:20251206T193000
SUMMARY:X-Mas-Country-Party
LOCATION:Gasthaus Heidekrug\, Waldluststr. 67\, 90480 Nürnberg
STATUS:CONFIRMED
END:VEVENT
END:VCALENDAR