BEGIN:VCALENDAR
VERSION:2.0
PRODID:-//Doppelpunkt//Events//DE
CALSCALE:GREGORIAN
METHOD:PUBLISH
BEGIN:VEVENT
UID:event-3254@www.doppelpunkt.de
DTSTAMP:20260420T202305
DTSTART:20260101T010000
DTEND:20260101T010000
SUMMARY:"Desilvester"-Party
LOCATION:Desi\, Brückenstr. 23\, 90419 Nürnberg
STATUS:CONFIRMED
END:VEVENT
END:VCALENDAR